BEGIN:VCALENDAR
VERSION:2.0
PRODID:-//CERN//INDICO//EN
BEGIN:VEVENT
SUMMARY:AMD-GPU Hackathon for VIPER-GPU
DTSTART:20260427T110000Z
DTEND:20260429T154500Z
DTSTAMP:20260423T224900Z
UID:indico-event-728@plan.events.mpg.de
CONTACT:training@mpcdf.mpg.de
DESCRIPTION:After the successful AMD-GPU Hackthon last year\, we will repe
 at it in this event with a slight change. The lecture part is done togethe
 r with the HLRS in a different event in the previous week.\nIn this part h
 ere\, we will focus on the work on the MPG codes that should be ported to\
 , optimized/analyzed on our VIPER-GPU system. Applicants should bring in t
 heir own codes\, a defined test case (1-4 VIPER-GPU nodes\, short runtime 
 in the range of minutes) and should have the knowledge on how to use the A
 MD tools (as presented in the lecture week before).\nExperts from the MPCD
 F\, from Eviden and AMD will be present and help in using the tools\, deve
 lop optimization and porting strategies and assess the performance of the 
 codes. \n\nhttps://plan.events.mpg.de/event/728/
LOCATION:online
URL:https://plan.events.mpg.de/event/728/
END:VEVENT
END:VCALENDAR
