BEGIN:VCALENDAR
VERSION:2.0
PRODID:-//CERN//INDICO//EN
BEGIN:VEVENT
SUMMARY:ITMS Joint Module Meeting 2026
DTSTART:20260414T100000Z
DTEND:20260416T120000Z
DTSTAMP:20260424T114300Z
UID:indico-event-687@plan.events.mpg.de
CONTACT:beatrice.ellerhoff@dwd.de\;+49 (69) 8062-2428
DESCRIPTION:Speakers: The ITMS Coordination Group\n\nJoint Module Meeting 
 of the Integrated Greenhouse Gas Monitoring System for Germany (ITMS)\n\nh
 ttps://plan.events.mpg.de/event/687/
IMAGE;VALUE=URI:https://plan.events.mpg.de/event/687/logo-3799439838.png
LOCATION:Konferenzbereich (Deutscher Wetterdienst)
URL:https://plan.events.mpg.de/event/687/
END:VEVENT
END:VCALENDAR
