BEGIN:VCALENDAR
VERSION:2.0
PRODID:-//CERN//INDICO//EN
BEGIN:VEVENT
SUMMARY:PhD Selection Week Party February 6\, 2026
DTSTART:20260206T170000Z
DTEND:20260206T220000Z
DTSTAMP:20260421T180900Z
UID:indico-event-671@plan.events.mpg.de
CONTACT:phd@mpi-cbg.de\;03512101018
DESCRIPTION:https://plan.events.mpg.de/event/671/
LOCATION:atrium (MPI-CBG)
URL:https://plan.events.mpg.de/event/671/
END:VEVENT
END:VCALENDAR
