BEGIN:VCALENDAR
VERSION:2.0
PRODID:-//CERN//INDICO//EN
BEGIN:VEVENT
SUMMARY:Workshop: Troubleshooting - resilient approach to sexism & challen
 ges
DTSTART:20260218T120000Z
DTEND:20260218T160000Z
DTSTAMP:20260423T202600Z
UID:indico-event-662@plan.events.mpg.de
CONTACT:geo@mpi-cbg.de
DESCRIPTION:Speakers: Jana Bachmann (LUB GmbH – Linguistische Unternehme
 nsberatung (LUB & diversity company))\n\n Registration Deadline: February 
 8 \n \nThis workshop is for women and anyone who identifies as female –
  not to make you „nicer“\, but more resilient to verbal attacks and pr
 ofessional challenges.\n \nWe’ll name sexism\, microaggressions and eve
 ryday put-downs for what they are\, instead of gaslighting ourselves into 
 „maybe I’m overreacting“.\n \nYou’ll learn how to use Nonviolent 
 Communication to set clear boundaries. And you’ll practice sharp\, witty
  comebacks that protect your dignity and your values when „playing along
 “ and keeping quiet don’t help anymore. We’ll explore how gendered e
 xpectations shape your reactions – from people-pleasing to freezing – 
 and how to rewrite those patterns.\n \nThe goal is not to endure more\, b
 ut to choose when you stay\, when you speak up and when you walk away.\n 
 \nCome if you’re tired of swallowing comments\, laughing along\, or repl
 aying conversations at 3 a.m. thinking of what you should have said. Leave
  with tools\, language and allies – and with a version of yourself that 
 takes up unapologetic space.“\n \n\nCoach: Dr. Jana Bachmann\nLUB GmbH
  – Linguistische Unternehmensberatung (LUB & diversity company)\nGFGK 
 - Gesellschaft für Gerechte Kommunikation mbH (Fairlanguage)\n\n\nhttps:/
 /plan.events.mpg.de/event/662/
LOCATION:Galleria (MPI-CBG)
URL:https://plan.events.mpg.de/event/662/
END:VEVENT
END:VCALENDAR
