BEGIN:VCALENDAR
VERSION:2.0
PRODID:-//CERN//INDICO//EN
BEGIN:VEVENT
SUMMARY:MaMMoS Review Meeting 2026
DTSTART:20260203T080000Z
DTEND:20260205T110000Z
DTSTAMP:20260420T140300Z
UID:indico-event-652@plan.events.mpg.de
CONTACT:timoteo.colnaghi@mpcdf.mpg.de
DESCRIPTION:Speakers: Timoteo Colnaghi (MPCDF)\, Andreas Marek (MPCDF)\n\n
 \n \nDear MaMMoS Project Partners\,\nWe are pleased to invite you to the 
 2nd MaMMoS  Review Meeting\, hosted at the Max Planck Computing and Data 
 Facility in Garching near Munich. This meeting will provide an excellent o
 pportunity for all project participants to exchange ideas\, present progre
 ss and plan future steps.\nThe event is due to start on Tuesday\, Feb 3rd
  at 09.00 and it closes on Wednesday\, Feb 4th at 15.00. Informal meetings
  can be also scheduled for Thursday\, Feb 5th. You will find the agenda an
 d the link to the registration form below in this page. The deadline for t
 he registration is Monday\, December 22nd at 12.00.\nThe MPCDF\, which is 
 located on the Science Campus Garching\, can be easily reached by public t
 ransport via the U6 - stop Garching Forschungszentrum. This latter coincid
 es with the nothernmost  stop of the U6. Please follow the directions at 
 this link to find your way to the MPCDF building after leaving the undergr
 ound station.\n \nRecommended hotels\nCourtyard by Mariott\, located dire
 ctly at the Science Campus\nStellaris Apartment Hotel\, located directly a
 t the Science Campus\nMotel One Munich Garching\nDorint Hotel Garching Hoe
 chbrueck\nSoulmade\nGasthof Neuwirt\nKönig Ludwig\nPlease be aware that t
 he MPCDF cannot anticipate or subsidize any of your staying costs (includi
 ng e.g. the travel costs\, the hotel booking and the social dinner). Each 
 participant is also fully responsible for booking their travel.\nWe are co
 mmitted to making our meeting accessible to all. Therefore\, we encourage 
 you to reach out to Timoteo Colnaghi (MPCDF) at timoteo.colnaghi@mpcdf.mpg
 .de if you require any special assistance during the meeting.\nWe look for
 ward to meeting you in Garching!\nThe MPCDF team\n\nhttps://plan.events.mp
 g.de/event/652/
LOCATION:Projektraum 2nd floor (MPCDF)
URL:https://plan.events.mpg.de/event/652/
END:VEVENT
END:VCALENDAR
