BEGIN:VCALENDAR
VERSION:2.0
PRODID:-//CERN//INDICO//EN
BEGIN:VEVENT
SUMMARY:MaMMoS Project Meeting 2026 -- OLD VERSION
DTSTART:20260203T080000Z
DTEND:20260204T140000Z
DTSTAMP:20260423T183800Z
UID:indico-event-645@plan.events.mpg.de
CONTACT:timoteo.colnaghi@mpcdf.mpg.de
DESCRIPTION:\nDear MaMMoS Project Partners\,\nWe are pleased to invite you
  to the 2nd MaMMos Project Review Meeting\, hosted again at the Max Planck
  Computing & Data Facility on the Science Campus in Garching near Munich. 
 Building on last year's productive meeting\, this session will allow us to
  share ideas\, review progress\, and plan ahead. \nThe meeting is schedul
 ed to start on February 3 at 09:00 and to finish on February 4 at 15:00. A
 genda and registration link are provided below. Please register by Monday\
 , December 22 at 12:00. \nEach participant is kindly asked to arrange the
 ir own travel. Relevant details on travel and accomodation can be found be
 low:\nDirections\nDirections and transportation info can be found here.\nR
 ecommended hotels\nCourtyard by Mariott\, hotel directly on Science Campus
 \nMotel One Munich Garching\nSoulmade\nGasthof Neuwirt\nKönig Ludwig\nTo 
 ensure full accessibility\, we invite participants requiring assistance to
  contact Friederike Neu (MPCDF) at friederike.neu@mpcdf.mpg.de or Timoteo 
 Colnaghi (MPCDF) at timoteo.colnaghi@mpcdf.mpg.de.\nWe look forward to wel
 coming you in Garching!\n \n \n\nhttps://plan.events.mpg.de/event/645/
LOCATION:Max Planck Computing & Data Facility
URL:https://plan.events.mpg.de/event/645/
END:VEVENT
END:VCALENDAR
