BEGIN:VCALENDAR
VERSION:2.0
PRODID:-//CERN//INDICO//EN
BEGIN:VEVENT
SUMMARY:Transition Possible: Explore Careers Beyond R&D
DTSTART:20260416T065000Z
DTEND:20260416T113000Z
DTSTAMP:20260423T160300Z
UID:indico-event-642@plan.events.mpg.de
CONTACT:andrea.kleiber@ipp.mpg.de
DESCRIPTION:\n\n \n\nHere you can register for the Career Day.\n\nIf all 
 places are fully booked\, we can put you on the waiting list.\n\n \n \n
  \n\nhttps://plan.events.mpg.de/event/642/
LOCATION:Zoom (virtual)
URL:https://plan.events.mpg.de/event/642/
END:VEVENT
END:VCALENDAR
