BEGIN:VCALENDAR
VERSION:2.0
PRODID:-//CERN//INDICO//EN
BEGIN:VEVENT
SUMMARY:From UV to X-ray Spectroscopy in Liquids and Soft Matter: Linear a
 nd Nonlinear Interactions (LINX)
DTSTART:20260504T220000Z
DTEND:20260507T215900Z
DTSTAMP:20260421T054100Z
UID:indico-event-592@plan.events.mpg.de
CONTACT:linx2026@mpi-hd.mpg.de\;marta.murillo-sanchez@mpi-hd.mpg.de\;laura
 .cattaneo@mpi-hd.mpg.de
DESCRIPTION:Speakers: Laura Cattaneo (Max Planck Institute for Nuclear Phy
 sics)\, Marta L. Murillo-Sánchez (Max Planck Institute for Nuclear Physic
 s)\n\nhttps://plan.events.mpg.de/event/592/
IMAGE;VALUE=URI:https://plan.events.mpg.de/event/592/logo-1731538787.png
LOCATION:Otto Hahn Lecture (Max Planck Institute for Nuclear Physics\, Hei
 delberg)
URL:https://plan.events.mpg.de/event/592/
END:VEVENT
END:VCALENDAR
