BEGIN:VCALENDAR
VERSION:2.0
PRODID:-//CERN//INDICO//EN
BEGIN:VEVENT
SUMMARY:49. Bibliothekstagung 2026 (BT26)
DTSTART:20260427T100000Z
DTEND:20260429T110000Z
DTSTAMP:20260426T042000Z
UID:indico-event-523@plan.events.mpg.de
CONTACT:ag_bibliothekstagung@lists.gwdg.de
DESCRIPTION:Die 49. Bibliothekstagung 2026 der Max-Planck-Gesellschaft fin
 det von Montag bis Mittwoch\, 27. - 29. April 2026\, im Harnack-Haus in Be
 rlin-Dahlem statt. \nDie Anmeldung ist bis zum 20. März 2026 möglich. 
 \nÜbernachtungsmöglichkeiten (eventuell per E-Mail buchen):\n\n1. Semina
 ris Campus Hotel BerlinTakustraße 39\, 14195 BerlinE-Mail: reservation.be
 r61@seminaris.com16 Zimmer zum Preis von 119\,- Euro/Nacht (mit Frühstüc
 k)Kontingent verfügbar bis: 25.02.2026Abrufzeichen: BT2026\n2. Hotel Steg
 litz InternationalSchlossstraße / Albrechtstraße 2\, 12165 BerlinE-Mail:
  info@si-hotel.com20 Zimmer zum Preis von 115\,- Euro/Nacht mit Frühstüc
 k Kontingent verfügbar bis: 26.03.2026Abrufzeichen: BT2026\n3. Harnack-H
 aus der MPGIhnestraße 16–20\, 13195 BerlinE-Mail: info@harnackhaus-berl
 in.mpg.de69 Zimmer zum Preis von 98\,- Euro/Nacht mit FrühstückKontingen
 t verfügbar bis: 27.02.2026Buchungscode: 9316\n\n \nTagungsprogramm:\nDa
 s vorläufige Programm finden Sie hier (nur im IP-Bereich der MPG zugäng
 lich).\nTreffen am Vorabend:\nSonntag\, 26.04.2026 ab 19 Uhr in der Tratt
 oria Romana auf Selbstzahlerbasis nach Anmeldung\nPuRe-Anwendertreffen:\nV
 or der Tagung findet am Montag\, 27. April 2026\, von 10 bis 12 Uhr das MP
 G.PuRe-Anwendertreffen (hybrid) statt.\nIndividuelles Mittagessen am Monta
 g außerhalb des Harnack-Hauses\nOptionen in Laufweite:\n\nCoffee Station
  im U-Bahnhof Freie Universität (https://coffee-station.9gg.de/)\nAux Del
 ice Normands\, Ihnestraße 29\, 14195 Berlin (https://www.auxdelicesnorman
 ds.de/)\nMax-Planck-Institut für molekulare Genetik\, Ihnestraße 63\, 14
 195 Berlin. Mensa. (https://www.molgen.mpg.de/de/) Teilnahme wird im Anmel
 deformular abgefragt. \nNaya Jouly\, Thielallee 34\, 14195 Berlin (https.
 //www.nayajouly.de/)\n\nGemeinsames Mittagessen am Dienstag im Tagungsabla
 uf auf MPG-Kosten (inkl. einem Getränk)\nIndividuelles Mittagessen am Mit
 twoch außerhalb des Harnack-Hauses (ohne Mensa am MPI für molekulare Ge
 netik)\n \n \n \n \n\nhttps://plan.events.mpg.de/event/523/
LOCATION:Harnack-Haus
URL:https://plan.events.mpg.de/event/523/
END:VEVENT
END:VCALENDAR
